BEGIN:VCALENDAR
VERSION:2.0
PRODID:-//Frei und Gleich - ECPv6.15.20//NONSGML v1.0//EN
CALSCALE:GREGORIAN
METHOD:PUBLISH
X-ORIGINAL-URL:https://freiundgleich.info
X-WR-CALDESC:Veranstaltungen für Frei und Gleich
REFRESH-INTERVAL;VALUE=DURATION:PT1H
X-Robots-Tag:noindex
X-PUBLISHED-TTL:PT1H
BEGIN:VTIMEZONE
TZID:Europe/Berlin
BEGIN:DAYLIGHT
TZOFFSETFROM:+0100
TZOFFSETTO:+0200
TZNAME:CEST
DTSTART:20240331T010000
END:DAYLIGHT
BEGIN:STANDARD
TZOFFSETFROM:+0200
TZOFFSETTO:+0100
TZNAME:CET
DTSTART:20241027T010000
END:STANDARD
BEGIN:DAYLIGHT
TZOFFSETFROM:+0100
TZOFFSETTO:+0200
TZNAME:CEST
DTSTART:20250330T010000
END:DAYLIGHT
BEGIN:STANDARD
TZOFFSETFROM:+0200
TZOFFSETTO:+0100
TZNAME:CET
DTSTART:20251026T010000
END:STANDARD
BEGIN:DAYLIGHT
TZOFFSETFROM:+0100
TZOFFSETTO:+0200
TZNAME:CEST
DTSTART:20260329T010000
END:DAYLIGHT
BEGIN:STANDARD
TZOFFSETFROM:+0200
TZOFFSETTO:+0100
TZNAME:CET
DTSTART:20261025T010000
END:STANDARD
END:VTIMEZONE
BEGIN:VEVENT
DTSTART;TZID=Europe/Berlin:20251127T190000
DTEND;TZID=Europe/Berlin:20251127T210000
DTSTAMP:20260421T144944
CREATED:20250925T083145Z
LAST-MODIFIED:20251113T130932Z
UID:3121-1764270000-1764277200@freiundgleich.info
SUMMARY:Human Rights Night #3 – Zusammen.TUN
DESCRIPTION:Eine offene\, demokratische und solidarische Gesellschaft entsteht nicht einfach so\, sondern ist das Produkt unserer Handlungen\, Interaktionen und Strukturen – d.h. sie kann und muss auch im Kleinen wachsen und soll vor Ort funktionieren. Und sie muss\, denn Wohnen ist ein Menschenrecht! \nBei der 3. Human Rights Night blicken wir hoffnungsvoll und konstruktiv auf das Thema Wohnen & Zusammenleben. \nWie sieht eine gemeinsame solidarische Gesellschaft am Wohnort aus\, wie funktioniert gutes Zusammenleben (mit unseren Nachbar:innen)\, wie kann man sich vor Ort gemeinsame Räume schaffen? Und was braucht es\, um zukünftig besser dahin zu kommen? \nWir stellen Projekte und Stimmen vor\, die uns inspirieren\, die Erkenntnisse teilen und uns Perspektiven und Möglichkeiten aufzeigen. \nEin Abend mit Musik von Lena&Linus und Gesprächen zwischen spannenden Gästen\, die in drei Panels das Thema Wohnen als Menschenrecht aus unterschiedlichen Perspektiven beleuchten. \nThemen: \nLebenswertes Wohnen \nmit Ulrike Uhlig (Bürgerinitiative Bürgerbahnhof Plagwitz erhalten)\, Pfarrerin Christiane Dohrn\, Ariane Jedlitschka (SUPERBLOCKS) \n  \nSelbstbestimmtes Wohnen  \nmit Tanja Korzer (Architektin\, Netzwerk Leipziger Freiheit)\, Robin Weisbach (Vernetzung Süd)\, Ulrike Hippe (Haus und Wagenrat e.V.\, Dezentrale) \n  \nNeues Wohnen  \nmit Prof. Dr. Dieter Rink (Nachhaltige Stadtkonzepte)\, Pfarrer Alexander Höner (Leiter der Arbeits- und Forschungsstelle „Theologie der Stadt”)\, Rotraud Kießling (Wohnungsnotfallhilfe\, Diakonisches Werk der sächsischen Landeskirche) \n  \n27. November 2025 | Galerie KUB\, Leipzig \nEinlass: 18:15 | Beginn: 19:00 \nModeration: Boussa Thiam \nEINTRITT FREI \nDer Zugang zum Veranstaltungsort ist barrierearm. \nEs wird ein kleines\, aber feines gastronomisches Angebot geben!
URL:https://freiundgleich.info/event/human-rights-night-3-zusammen-tun/
LOCATION:Galerie KUB\, Leipzig\, Kantstraße 18\, Leipzig\, Sachsen\, 04275
CATEGORIES:Human Rights Nights
ATTACH;FMTTYPE=image/png:https://freiundgleich.info/wp-content/uploads/2025/09/Banner_HRN3.png
ORGANIZER;CN="Frei und Gleich":MAILTO:info@freiundgleich.info
END:VEVENT
END:VCALENDAR